{"text_format":"1","workbook":"xlsx","n_sheets":11,"sheets":["Survey","Questions","Charts","UserScore","TotalScore","Jerusalem","Judea","Samaria","End","Sheet1","Sheet2"],"not_rendered":{"charts":1,"images":3,"macros":1,"external_links":0,"defined_names":3,"comments":0,"pivot_tables":0},"unopened":[],"bounds":{"document_bytes":16777216,"sheet_cells":100000,"rows_first":2000,"rows_last":500,"rows_between":2000,"halvings":0,"cell_chars":16384,"cell_head_chars":4096},"cells_cut":0,"cells_raw":0,"read":"whole","date_system":"1900"}

{"sheet":"Survey","index":0,"n_rows":28,"n_cols":5,"rows_kept":28,"cut":false,"hidden":false,"merged":[[27,4,27,11]]}
[]
[]
[]
[]
[]
[]
[]
[]
[]
[]
[]
[]
[]
[]
[]
[]
[]
[]
[]
[]
[]
[]
[]
[]
[]
[]
[]
[null,null,null,null,"Click Here To Begin The Survey"]

{"sheet":"Questions","index":1,"n_rows":42,"n_cols":1,"rows_kept":42,"cut":false,"hidden":true,"merged":[]}
["Our church has a comprehensive plan to reach our community (Jerusalem), region/state (Judea), continent (Samaria) and world (ends of the earth)"]
["Our church has designated mission leaders and/or mission teams responsible for doing missions in the areas of Jerusalem, Judea, Samaria, and Ends of Earth"]
["Our church budget reflects a plan to reach people in this area"]
["Our church provides Great Commission—Acts 1:8 mission awareness for every age group in the church"]
["Our church has hosted or been involved in some type of missions training (missions, cross-cultural, team leader, etc) for this area in the past 12 months"]
["Our church is regularly exposed to mission awareness or mission education materials such as magazines, newspapers, newsletters, Internet, emails, etc for this area"]
["Our church has an ongoing prayer plan to pray specifically for missionaries, other Christian workers, and/or non-evangelized people groups in this area"]
["Our church has adopted a missionary for this area that we pray for regularly"]
["Our church is actively involved in engaging people groups or population segments in this area with the Gospel"]
["Our church regularly participates in prayer-walking or virtual prayer-walking (via computer or other electronic device) for this area"]
["Our church has a prayer coordinator for this area"]
["Our church regularly focuses on mission needs in this area"]
["Our church is actively involved in giving to missions through the Cooperative Program for our Jerusalem, Judea, Samaria, and the World"]
["Our church supports its Acts 1:8 partners (associations, state conventions, national SBC entities) through special or annual Southern Baptist mission offerings"]
["Our church provides mission action opportunities or outreach ministries for its members (evangelistic visitation, hospitals and homebound visitation, etc) in this area"]
["Our church members are aware of mission opportunities available to them in this area"]
["Our church plans and encourages mission opportunities in this area"]
["Our church has an intentional evangelistic outreach program for this area"]
["Our church provides evangelistic materials for its members to use in this area"]
["Our church presents the overwhelming need for missionaries and encourages individuals to respond to career missions in this area"]
["Our church offers opportunities for individuals to share their call to missions in this area, and affirms them in doing so"]
["Our church assists people exploring career missions in this area"]
["Our church regularly prays for and regularly provides financial support for church planting and church planting movements in this area"]
["Our church has been intentionally involved in planting a church in this area in the past 12 months"]
["Our church has a plan to start an ethnic, culturally diverse church in this area in the next 12 months"]
["The designated mission leaders and/or mission teams are empowered with the authority to administer our missions plan in this area"]
["Our members are trained in mission opportunities in this area"]
["Our members are encouraged and trained to share their faith in a culturally relevant way in this area"]
["Our members are informed about opportunities for service in this area (North American Mission Board, International Mission Board, World Changers, Disaster Relief, Local Ministries, etc)"]
["Our pastor regularly emphasizes missions giving for this area"]
["Our pastor and/or mission leaders regularly use sermon illustrations, missionary speakers, mission fairs, commissioning services or other activities and events to bring mission awareness about this area to our church?"]
["A majority of our church membership can describe the church’s comprehensive plan to reach each of our areas, community (Jerusalem), region/state (Judea), continent (Samaria) and world (ends of the earth)"]
["A missionary in this area has spoken or made a presentation about missions at our church in the 12  months"]
["I have participated in a mission endeavor this year (action involvement, not just training) to this area"]
["Members of our church have shared testimonies about their mission experiences in this area in the past 12 months"]
["Members of our church regularly give above their tithe to mission opportunities in this area"]
["It is my church’s responsibility to participate in planting new churches in this area"]
["Members of our church set aside money to use for mission trips or other missions-related activities in this area"]
["Church members share their faith often (several times a year) in this area"]
["Within the past five years our church has considered adopting a church planter missionary in this area"]
["Within the past five years our church has partnered with other churches in planting new churches in this area"]
["There are times set aside in our service to share evangelistic testimonies from this area"]

{"sheet":"Charts","index":2,"n_rows":200,"n_cols":1,"rows_kept":200,"cut":false,"hidden":true,"merged":[]}
[]
[]
[]
[]
[]
[]
[]
[]
[]
[]
[]
[]
[]
[]
[]
[]
[]
[]
[]
[]
[]
[]
[]
[]
[]
[]
[]
[]
[]
[]
[]
[]
[]
[]
[]
[]
[]
[]
[]
[]
[]
[]
[]
[]
[]
[]
[]
[]
[]
[]
[]
[]
[]
[]
[]
[]
[]
[]
[]
[]
[]
[]
[]
[]
[]
[]
[]
[]
[]
[]
[]
[]
[]
[]
[]
[]
[]
[]
[]
[]
[]
[]
[]
[]
[]
[]
[]
[]
[]
[]
[]
[]
[]
[]
[]
[]
[]
[]
[]
[]
[]
[]
[]
[]
[]
[]
[]
[]
[]
[]
[]
[]
[]
[]
[]
[]
[]
[]
[]
[]
[]
[]
[]
[]
[]
[]
[]
[]
[]
[]
[]
[]
[]
[]
[]
[]
[]
[]
[]
[]
[]
[]
[]
[]
[]
[]
[]
[]
[]
[]
[]
[]
[]
[]
[]
[]
[]
[]
[]
[]
[]
[]
[]
[]
[]
[]
[]
[]
[]
[]
[]
[]
[]
[]
[]
[]
[]
[]
[]
[]
[]
[]
[]
[]
[]
[]
[]
[]
[]
[]
[]
[]
[]
[]
[]
[]
[]
[]
[]
[" m"]

{"sheet":"UserScore","index":3,"n_rows":43,"n_cols":16,"rows_kept":43,"cut":false,"hidden":true,"merged":[]}
[null,null,"JERUSALEM","JUDEA","SAMARIA","ENDS OF THE EARTH",null,null,"JERUSALEM","HIDDEN1","JUDEA","HIDDEN2","SAMARIA","HIDDEN3","ENDS OF THE EARTH","HIDDEN4"]
[1,"PREPARE",4,4,4,3,null,"PREPARE",{"$f":"SUMIFS(C:C,$B:$B,$H2)/(COUNTIFS($B:$B,$H2)*4)","v":0.95},{"$f":"1-I2","v":5.0000000000000044E-2},{"$f":"SUMIFS(D:D,$B:$B,$H2)/(COUNTIFS($B:$B,$H2)*4)","v":0.9},{"$f":"1-K2","v":9.9999999999999978E-2},{"$f":"SUMIFS(E:E,$B:$B,$H2)/(COUNTIFS($B:$B,$H2)*4)","v":0.8},{"$f":"1-M2","v":0.19999999999999996},{"$f":"SUMIFS(F:F,$B:$B,$H2)/(COUNTIFS($B:$B,$H2)*4)","v":0.75},{"$f":"1-O2","v":0.25}]
[2,"LEARN",4,3,2,2,null,"LEARN",{"$f":"SUMIFS(C:C,$B:$B,$H3)/(COUNTIFS($B:$B,$H3)*4)","v":1},{"$f":"1-I3","v":0},0.8928571428571429,0.1071428571428571,0.8571428571428571,{"$f":"1-M3","v":0.1428571428571429},0.75,{"$f":"1-O3","v":0.25}]
[3,"PREPARE",4,4,4,4,null,"PRAY",0.9,9.9999999999999978E-2,0.7,0.30000000000000004,0.65,{"$f":"1-M4","v":0.35},0.6,{"$f":"1-O4","v":0.4}]
[4,"PREPARE",3,3,3,3,null,"GIVE",1,0,1,0,1,{"$f":"1-M5","v":0},1,{"$f":"1-O5","v":0}]
[5,"LEARN",4,2,2,2,null,"GO",1,0,0.85,0.15000000000000002,0.75,{"$f":"1-M6","v":0.25},0.75,{"$f":"1-O6","v":0.25}]
[6,"LEARN",4,4,4,4,null,"TELL",1,0,0.95,5.0000000000000044E-2,0.9,{"$f":"1-M7","v":9.9999999999999978E-2},0.8,{"$f":"1-O7","v":0.19999999999999996}]
[7,"PRAY",3,3,3,2,null,"SEND",0.9375,6.25E-2,0.75,0.25,0.75,{"$f":"1-M8","v":0.25},0.625,{"$f":"1-O8","v":0.375}]
[8,"PRAY",3,1,1,1,null,"MULTIPLY",0.33333333333333331,0.66666666666666674,0.29166666666666669,0.70833333333333326,0.29166666666666669,{"$f":"1-M9","v":0.70833333333333326},0.29166666666666669,{"$f":"1-O9","v":0.70833333333333326}]
[9,"GO",4,3,3,3]
[10,"PRAY",4,4,3,3]
[11,"PRAY",4,2,2,2]
[12,"PRAY",4,4,4,4]
[13,"GIVE",4,4,4,4]
[14,"GIVE",4,4,4,4]
[15,"GO",4,4,2,2]
[16,"LEARN",4,4,4,4]
[17,"GO",4,4,4,4]
[18,"TELL",4,3,2,2]
[19,"TELL",4,4,4,4]
[20,"SEND",4,2,2,2]
[21,"SEND",4,4,4,4]
[22,"SEND",3,2,2,2]
[23,"MULTIPLY",2,2,2,2]
[24,"MULTIPLY",1,1,1,1]
[25,"MULTIPLY",1,1,1,1]
[26,"PREPARE",4,4,3,3]
[27,"GO",4,4,4,4]
[28,"TELL",4,4,4,4]
[29,"SEND",4,4,4,2]
[30,"GIVE",4,4,4,4]
[31,"LEARN",4,4,4,4]
[32,"PREPARE",4,3,2,2]
[33,"LEARN",4,4,4,4]
[34,"GO",4,2,2,2]
[35,"LEARN",4,4,4,1]
[36,"GIVE",4,4,4,4]
[37,"MULTIPLY",2,1,1,1]
[38,"GIVE",4,4,4,4]
[39,"TELL",4,4,4,2]
[40,"MULTIPLY",1,1,1,1]
[41,"MULTIPLY",1,1,1,1]
[42,"TELL",4,4,4,4]

{"sheet":"TotalScore","index":4,"n_rows":43,"n_cols":16,"rows_kept":43,"cut":false,"hidden":true,"merged":[]}
[null,9,"JERUSALEM","JUDEA","SAMARIA","ENDS OF THE EARTH",null,null,"JERUSALEM","HIDDEN1","JUDEA","HIDDEN2","SAMARIA","HIDDEN3","ENDS OF THE EARTH","HIDDEN4"]
[1,"PREPARE",{"$f":"SUM(OFFSET(Jerusalem!$C2,0,0,1,TotalUsers))","v":26},{"$f":"SUM(OFFSET(Judea!$C2,0,0,1,TotalUsers))","v":21},{"$f":"SUM(OFFSET(Samaria!$C2,0,0,1,TotalUsers))","v":16},{"$f":"SUM(OFFSET(End!$C2,0,0,1,TotalUsers))","v":18},null,"PREPARE",{"$f":"SUMIFS(C:C,$B:$B,$H2)/(COUNTIFS($B:$B,$H2)*4*TotalUsers)","v":0.60555555555555551},{"$f":"1-I2","v":0.39444444444444449},{"$f":"SUMIFS(D:D,$B:$B,$H2)/(COUNTIFS($B:$B,$H2)*4*TotalUsers)","v":0.55000000000000004},{"$f":"1-K2","v":0.44999999999999996},{"$f":"SUMIFS(E:E,$B:$B,$H2)/(COUNTIFS($B:$B,$H2)*4*TotalUsers)","v":0.46111111111111114},{"$f":"1-M2","v":0.53888888888888886},{"$f":"SUMIFS(F:F,$B:$B,$H2)/(COUNTIFS($B:$B,$H2)*4*TotalUsers)","v":0.57777777777777772},{"$f":"1-O2","v":0.42222222222222228}]
[2,"LEARN",{"$f":"SUM(OFFSET(Jerusalem!$C3,0,0,1,TotalUsers))","v":27},{"$f":"SUM(OFFSET(Judea!$C3,0,0,1,TotalUsers))","v":22},{"$f":"SUM(OFFSET(Samaria!$C3,0,0,1,TotalUsers))","v":18},{"$f":"SUM(OFFSET(End!$C3,0,0,1,TotalUsers))","v":23},null,"LEARN",0.71031746031746035,{"$f":"1-I3","v":0.28968253968253965},0.59523809523809523,0.40476190476190477,0.52777777777777779,{"$f":"1-M3","v":0.47222222222222221},0.69444444444444442,{"$f":"1-O3","v":0.30555555555555558}]
[3,"PREPARE",{"$f":"SUM(OFFSET(Jerusalem!$C4,0,0,1,TotalUsers))","v":26},{"$f":"SUM(OFFSET(Judea!$C4,0,0,1,TotalUsers))","v":21},{"$f":"SUM(OFFSET(Samaria!$C4,0,0,1,TotalUsers))","v":19},{"$f":"SUM(OFFSET(End!$C4,0,0,1,TotalUsers))","v":25},null,"PRAY",0.6,0.4,0.51111111111111107,0.48888888888888893,0.41666666666666669,0.58333333333333326,0.57777777777777772,0.42222222222222228]
[4,"PREPARE",{"$f":"SUM(OFFSET(Jerusalem!$C5,0,0,1,TotalUsers))","v":21},{"$f":"SUM(OFFSET(Judea!$C5,0,0,1,TotalUsers))","v":21},{"$f":"SUM(OFFSET(Samaria!$C5,0,0,1,TotalUsers))","v":18},{"$f":"SUM(OFFSET(End!$C5,0,0,1,TotalUsers))","v":27},null,"GIVE",0.63888888888888884,0.36111111111111116,0.6333333333333333,0.3666666666666667,0.71666666666666667,0.28333333333333333,0.78333333333333333,0.21666666666666667]
[5,"LEARN",{"$f":"SUM(OFFSET(Jerusalem!$C6,0,0,1,TotalUsers))","v":27},{"$f":"SUM(OFFSET(Judea!$C6,0,0,1,TotalUsers))","v":16},{"$f":"SUM(OFFSET(Samaria!$C6,0,0,1,TotalUsers))","v":13},{"$f":"SUM(OFFSET(End!$C6,0,0,1,TotalUsers))","v":20},null,"GO",0.72222222222222221,0.27777777777777779,0.57777777777777772,0.42222222222222228,0.41666666666666669,0.58333333333333326,0.55555555555555558,0.44444444444444442]
[6,"LEARN",{"$f":"SUM(OFFSET(Jerusalem!$C7,0,0,1,TotalUsers))","v":24},{"$f":"SUM(OFFSET(Judea!$C7,0,0,1,TotalUsers))","v":24},{"$f":"SUM(OFFSET(Samaria!$C7,0,0,1,TotalUsers))","v":22},{"$f":"SUM(OFFSET(End!$C7,0,0,1,TotalUsers))","v":24},null,"TELL",0.73333333333333328,0.26666666666666672,0.58888888888888891,0.41111111111111109,0.53888888888888886,0.46111111111111114,0.57222222222222219,0.42777777777777781]
[7,"PRAY",{"$f":"SUM(OFFSET(Jerusalem!$C8,0,0,1,TotalUsers))","v":23},{"$f":"SUM(OFFSET(Judea!$C8,0,0,1,TotalUsers))","v":19},{"$f":"SUM(OFFSET(Samaria!$C8,0,0,1,TotalUsers))","v":19},{"$f":"SUM(OFFSET(End!$C8,0,0,1,TotalUsers))","v":21},null,"SEND",0.70138888888888884,0.29861111111111116,0.63888888888888884,0.36111111111111116,0.63194444444444442,0.36805555555555558,0.66666666666666663,0.33333333333333337]
[8,"PRAY",{"$f":"SUM(OFFSET(Jerusalem!$C9,0,0,1,TotalUsers))","v":19},{"$f":"SUM(OFFSET(Judea!$C9,0,0,1,TotalUsers))","v":21},{"$f":"SUM(OFFSET(Samaria!$C9,0,0,1,TotalUsers))","v":16},{"$f":"SUM(OFFSET(End!$C9,0,0,1,TotalUsers))","v":25},null,"MULTIPLY",0.51851851851851849,0.48148148148148151,0.38425925925925924,0.6157407407407407,0.34259259259259262,0.65740740740740744,0.36574074074074076,0.6342592592592593]
[9,"GO",{"$f":"SUM(OFFSET(Jerusalem!$C10,0,0,1,TotalUsers))","v":28},{"$f":"SUM(OFFSET(Judea!$C10,0,0,1,TotalUsers))","v":21},{"$f":"SUM(OFFSET(Samaria!$C10,0,0,1,TotalUsers))","v":15},{"$f":"SUM(OFFSET(End!$C10,0,0,1,TotalUsers))","v":22}]
[10,"PRAY",{"$f":"SUM(OFFSET(Jerusalem!$C11,0,0,1,TotalUsers))","v":21},{"$f":"SUM(OFFSET(Judea!$C11,0,0,1,TotalUsers))","v":20},{"$f":"SUM(OFFSET(Samaria!$C11,0,0,1,TotalUsers))","v":10},{"$f":"SUM(OFFSET(End!$C11,0,0,1,TotalUsers))","v":14}]
[11,"PRAY",{"$f":"SUM(OFFSET(Jerusalem!$C12,0,0,1,TotalUsers))","v":18},{"$f":"SUM(OFFSET(Judea!$C12,0,0,1,TotalUsers))","v":11},{"$f":"SUM(OFFSET(Samaria!$C12,0,0,1,TotalUsers))","v":13},{"$f":"SUM(OFFSET(End!$C12,0,0,1,TotalUsers))","v":15}]
[12,"PRAY",{"$f":"SUM(OFFSET(Jerusalem!$C13,0,0,1,TotalUsers))","v":27},{"$f":"SUM(OFFSET(Judea!$C13,0,0,1,TotalUsers))","v":21},{"$f":"SUM(OFFSET(Samaria!$C13,0,0,1,TotalUsers))","v":17},{"$f":"SUM(OFFSET(End!$C13,0,0,1,TotalUsers))","v":29}]
[13,"GIVE",{"$f":"SUM(OFFSET(Jerusalem!$C14,0,0,1,TotalUsers))","v":29},{"$f":"SUM(OFFSET(Judea!$C14,0,0,1,TotalUsers))","v":30},{"$f":"SUM(OFFSET(Samaria!$C14,0,0,1,TotalUsers))","v":31},{"$f":"SUM(OFFSET(End!$C14,0,0,1,TotalUsers))","v":33}]
[14,"GIVE",{"$f":"SUM(OFFSET(Jerusalem!$C15,0,0,1,TotalUsers))","v":25},{"$f":"SUM(OFFSET(Judea!$C15,0,0,1,TotalUsers))","v":25},{"$f":"SUM(OFFSET(Samaria!$C15,0,0,1,TotalUsers))","v":29},{"$f":"SUM(OFFSET(End!$C15,0,0,1,TotalUsers))","v":31}]
[15,"GO",{"$f":"SUM(OFFSET(Jerusalem!$C16,0,0,1,TotalUsers))","v":27},{"$f":"SUM(OFFSET(Judea!$C16,0,0,1,TotalUsers))","v":22},{"$f":"SUM(OFFSET(Samaria!$C16,0,0,1,TotalUsers))","v":13},{"$f":"SUM(OFFSET(End!$C16,0,0,1,TotalUsers))","v":16}]
[16,"LEARN",{"$f":"SUM(OFFSET(Jerusalem!$C17,0,0,1,TotalUsers))","v":27},{"$f":"SUM(OFFSET(Judea!$C17,0,0,1,TotalUsers))","v":22},{"$f":"SUM(OFFSET(Samaria!$C17,0,0,1,TotalUsers))","v":20},{"$f":"SUM(OFFSET(End!$C17,0,0,1,TotalUsers))","v":27}]
[17,"GO",{"$f":"SUM(OFFSET(Jerusalem!$C18,0,0,1,TotalUsers))","v":27},{"$f":"SUM(OFFSET(Judea!$C18,0,0,1,TotalUsers))","v":25},{"$f":"SUM(OFFSET(Samaria!$C18,0,0,1,TotalUsers))","v":19},{"$f":"SUM(OFFSET(End!$C18,0,0,1,TotalUsers))","v":28}]
[18,"TELL",{"$f":"SUM(OFFSET(Jerusalem!$C19,0,0,1,TotalUsers))","v":28},{"$f":"SUM(OFFSET(Judea!$C19,0,0,1,TotalUsers))","v":18},{"$f":"SUM(OFFSET(Samaria!$C19,0,0,1,TotalUsers))","v":15},{"$f":"SUM(OFFSET(End!$C19,0,0,1,TotalUsers))","v":20}]
[19,"TELL",{"$f":"SUM(OFFSET(Jerusalem!$C20,0,0,1,TotalUsers))","v":30},{"$f":"SUM(OFFSET(Judea!$C20,0,0,1,TotalUsers))","v":26},{"$f":"SUM(OFFSET(Samaria!$C20,0,0,1,TotalUsers))","v":26},{"$f":"SUM(OFFSET(End!$C20,0,0,1,TotalUsers))","v":19}]
[20,"SEND",{"$f":"SUM(OFFSET(Jerusalem!$C21,0,0,1,TotalUsers))","v":23},{"$f":"SUM(OFFSET(Judea!$C21,0,0,1,TotalUsers))","v":21},{"$f":"SUM(OFFSET(Samaria!$C21,0,0,1,TotalUsers))","v":19},{"$f":"SUM(OFFSET(End!$C21,0,0,1,TotalUsers))","v":19}]
[21,"SEND",{"$f":"SUM(OFFSET(Jerusalem!$C22,0,0,1,TotalUsers))","v":29},{"$f":"SUM(OFFSET(Judea!$C22,0,0,1,TotalUsers))","v":26},{"$f":"SUM(OFFSET(Samaria!$C22,0,0,1,TotalUsers))","v":28},{"$f":"SUM(OFFSET(End!$C22,0,0,1,TotalUsers))","v":31}]
[22,"SEND",{"$f":"SUM(OFFSET(Jerusalem!$C23,0,0,1,TotalUsers))","v":23},{"$f":"SUM(OFFSET(Judea!$C23,0,0,1,TotalUsers))","v":21},{"$f":"SUM(OFFSET(Samaria!$C23,0,0,1,TotalUsers))","v":22},{"$f":"SUM(OFFSET(End!$C23,0,0,1,TotalUsers))","v":24}]
[23,"MULTIPLY",{"$f":"SUM(OFFSET(Jerusalem!$C24,0,0,1,TotalUsers))","v":20},{"$f":"SUM(OFFSET(Judea!$C24,0,0,1,TotalUsers))","v":19},{"$f":"SUM(OFFSET(Samaria!$C24,0,0,1,TotalUsers))","v":16},{"$f":"SUM(OFFSET(End!$C24,0,0,1,TotalUsers))","v":20}]
[24,"MULTIPLY",{"$f":"SUM(OFFSET(Jerusalem!$C25,0,0,1,TotalUsers))","v":18},{"$f":"SUM(OFFSET(Judea!$C25,0,0,1,TotalUsers))","v":5},{"$f":"SUM(OFFSET(Samaria!$C25,0,0,1,TotalUsers))","v":5},{"$f":"SUM(OFFSET(End!$C25,0,0,1,TotalUsers))","v":8}]
[25,"MULTIPLY",{"$f":"SUM(OFFSET(Jerusalem!$C26,0,0,1,TotalUsers))","v":12},{"$f":"SUM(OFFSET(Judea!$C26,0,0,1,TotalUsers))","v":7},{"$f":"SUM(OFFSET(Samaria!$C26,0,0,1,TotalUsers))","v":7},{"$f":"SUM(OFFSET(End!$C26,0,0,1,TotalUsers))","v":8}]
[26,"PREPARE",{"$f":"SUM(OFFSET(Jerusalem!$C27,0,0,1,TotalUsers))","v":23},{"$f":"SUM(OFFSET(Judea!$C27,0,0,1,TotalUsers))","v":23},{"$f":"SUM(OFFSET(Samaria!$C27,0,0,1,TotalUsers))","v":19},{"$f":"SUM(OFFSET(End!$C27,0,0,1,TotalUsers))","v":22}]
[27,"GO",{"$f":"SUM(OFFSET(Jerusalem!$C28,0,0,1,TotalUsers))","v":22},{"$f":"SUM(OFFSET(Judea!$C28,0,0,1,TotalUsers))","v":20},{"$f":"SUM(OFFSET(Samaria!$C28,0,0,1,TotalUsers))","v":17},{"$f":"SUM(OFFSET(End!$C28,0,0,1,TotalUsers))","v":18}]
[28,"TELL",{"$f":"SUM(OFFSET(Jerusalem!$C29,0,0,1,TotalUsers))","v":27},{"$f":"SUM(OFFSET(Judea!$C29,0,0,1,TotalUsers))","v":24},{"$f":"SUM(OFFSET(Samaria!$C29,0,0,1,TotalUsers))","v":20},{"$f":"SUM(OFFSET(End!$C29,0,0,1,TotalUsers))","v":20}]
[29,"SEND",{"$f":"SUM(OFFSET(Jerusalem!$C30,0,0,1,TotalUsers))","v":26},{"$f":"SUM(OFFSET(Judea!$C30,0,0,1,TotalUsers))","v":24},{"$f":"SUM(OFFSET(Samaria!$C30,0,0,1,TotalUsers))","v":22},{"$f":"SUM(OFFSET(End!$C30,0,0,1,TotalUsers))","v":22}]
[30,"GIVE",{"$f":"SUM(OFFSET(Jerusalem!$C31,0,0,1,TotalUsers))","v":26},{"$f":"SUM(OFFSET(Judea!$C31,0,0,1,TotalUsers))","v":24},{"$f":"SUM(OFFSET(Samaria!$C31,0,0,1,TotalUsers))","v":29},{"$f":"SUM(OFFSET(End!$C31,0,0,1,TotalUsers))","v":31}]
[31,"LEARN",{"$f":"SUM(OFFSET(Jerusalem!$C32,0,0,1,TotalUsers))","v":23},{"$f":"SUM(OFFSET(Judea!$C32,0,0,1,TotalUsers))","v":21},{"$f":"SUM(OFFSET(Samaria!$C32,0,0,1,TotalUsers))","v":22},{"$f":"SUM(OFFSET(End!$C32,0,0,1,TotalUsers))","v":28}]
[32,"PREPARE",{"$f":"SUM(OFFSET(Jerusalem!$C33,0,0,1,TotalUsers))","v":13},{"$f":"SUM(OFFSET(Judea!$C33,0,0,1,TotalUsers))","v":13},{"$f":"SUM(OFFSET(Samaria!$C33,0,0,1,TotalUsers))","v":11},{"$f":"SUM(OFFSET(End!$C33,0,0,1,TotalUsers))","v":12}]
[33,"LEARN",{"$f":"SUM(OFFSET(Jerusalem!$C34,0,0,1,TotalUsers))","v":24},{"$f":"SUM(OFFSET(Judea!$C34,0,0,1,TotalUsers))","v":23},{"$f":"SUM(OFFSET(Samaria!$C34,0,0,1,TotalUsers))","v":16},{"$f":"SUM(OFFSET(End!$C34,0,0,1,TotalUsers))","v":26}]
[34,"GO",{"$f":"SUM(OFFSET(Jerusalem!$C35,0,0,1,TotalUsers))","v":26},{"$f":"SUM(OFFSET(Judea!$C35,0,0,1,TotalUsers))","v":16},{"$f":"SUM(OFFSET(Samaria!$C35,0,0,1,TotalUsers))","v":11},{"$f":"SUM(OFFSET(End!$C35,0,0,1,TotalUsers))","v":16}]
[35,"LEARN",{"$f":"SUM(OFFSET(Jerusalem!$C36,0,0,1,TotalUsers))","v":27},{"$f":"SUM(OFFSET(Judea!$C36,0,0,1,TotalUsers))","v":22},{"$f":"SUM(OFFSET(Samaria!$C36,0,0,1,TotalUsers))","v":22},{"$f":"SUM(OFFSET(End!$C36,0,0,1,TotalUsers))","v":27}]
[36,"GIVE",{"$f":"SUM(OFFSET(Jerusalem!$C37,0,0,1,TotalUsers))","v":17},{"$f":"SUM(OFFSET(Judea!$C37,0,0,1,TotalUsers))","v":16},{"$f":"SUM(OFFSET(Samaria!$C37,0,0,1,TotalUsers))","v":21},{"$f":"SUM(OFFSET(End!$C37,0,0,1,TotalUsers))","v":23}]
[37,"MULTIPLY",{"$f":"SUM(OFFSET(Jerusalem!$C38,0,0,1,TotalUsers))","v":27},{"$f":"SUM(OFFSET(Judea!$C38,0,0,1,TotalUsers))","v":21},{"$f":"SUM(OFFSET(Samaria!$C38,0,0,1,TotalUsers))","v":22},{"$f":"SUM(OFFSET(End!$C38,0,0,1,TotalUsers))","v":21}]
[38,"GIVE",{"$f":"SUM(OFFSET(Jerusalem!$C39,0,0,1,TotalUsers))","v":18},{"$f":"SUM(OFFSET(Judea!$C39,0,0,1,TotalUsers))","v":19},{"$f":"SUM(OFFSET(Samaria!$C39,0,0,1,TotalUsers))","v":19},{"$f":"SUM(OFFSET(End!$C39,0,0,1,TotalUsers))","v":23}]
[39,"TELL",{"$f":"SUM(OFFSET(Jerusalem!$C40,0,0,1,TotalUsers))","v":26},{"$f":"SUM(OFFSET(Judea!$C40,0,0,1,TotalUsers))","v":18},{"$f":"SUM(OFFSET(Samaria!$C40,0,0,1,TotalUsers))","v":16},{"$f":"SUM(OFFSET(End!$C40,0,0,1,TotalUsers))","v":19}]
[40,"MULTIPLY",{"$f":"SUM(OFFSET(Jerusalem!$C41,0,0,1,TotalUsers))","v":17},{"$f":"SUM(OFFSET(Judea!$C41,0,0,1,TotalUsers))","v":18},{"$f":"SUM(OFFSET(Samaria!$C41,0,0,1,TotalUsers))","v":14},{"$f":"SUM(OFFSET(End!$C41,0,0,1,TotalUsers))","v":11}]
[41,"MULTIPLY",{"$f":"SUM(OFFSET(Jerusalem!$C42,0,0,1,TotalUsers))","v":18},{"$f":"SUM(OFFSET(Judea!$C42,0,0,1,TotalUsers))","v":13},{"$f":"SUM(OFFSET(Samaria!$C42,0,0,1,TotalUsers))","v":10},{"$f":"SUM(OFFSET(End!$C42,0,0,1,TotalUsers))","v":11}]
[42,"TELL",{"$f":"SUM(OFFSET(Jerusalem!$C43,0,0,1,TotalUsers))","v":21},{"$f":"SUM(OFFSET(Judea!$C43,0,0,1,TotalUsers))","v":20},{"$f":"SUM(OFFSET(Samaria!$C43,0,0,1,TotalUsers))","v":20},{"$f":"SUM(OFFSET(End!$C43,0,0,1,TotalUsers))","v":25}]

{"sheet":"Jerusalem","index":5,"n_rows":43,"n_cols":11,"rows_kept":43,"cut":false,"hidden":true,"merged":[]}
[null,null,"Good Ol' Baptist","Good church 2","Scooter ","Rev. Pac DePews","Highland Park First Baptist Church","James Baker","keith parke","emmanuel baptist church- stanton, ky","LesterlkWatson"]
[1,"PREPARE",3,1,3,1,3,4,4,3,4]
[2,"LEARN",3,1,3,1,3,4,4,4,4]
[3,"PREPARE",3,1,3,1,3,4,4,3,4]
[4,"PREPARE",2,1,3,1,2,3,4,2,3]
[5,"LEARN",4,2,1,2,2,4,4,4,4]
[6,"LEARN",2,1,3,1,2,4,4,3,4]
[7,"PRAY",3,1,3,1,3,4,4,1,3]
[8,"PRAY",0,1,2,1,3,4,2,3,3]
[9,"GO",4,1,3,1,3,4,4,4,4]
[10,"PRAY",4,1,3,1,0,2,4,2,4]
[11,"PRAY",1,1,3,1,0,4,4,0,4]
[12,"PRAY",3,1,4,0,3,4,4,4,4]
[13,"GIVE",4,1,4,1,3,4,4,4,4]
[14,"GIVE",4,1,2,0,2,4,4,4,4]
[15,"GO",4,2,3,0,3,4,4,3,4]
[16,"LEARN",3,2,3,1,2,4,4,4,4]
[17,"GO",3,1,3,1,3,4,4,4,4]
[18,"TELL",3,0,4,2,3,4,4,4,4]
[19,"TELL",4,2,4,1,3,4,4,4,4]
[20,"SEND",2,1,2,1,3,4,4,2,4]
[21,"SEND",2,4,3,1,3,4,4,4,4]
[22,"SEND",3,1,3,1,2,4,4,2,3]
[23,"MULTIPLY",3,2,3,1,1,4,4,0,2]
[24,"MULTIPLY",1,1,3,2,2,4,4,0,1]
[25,"MULTIPLY",1,2,3,1,2,0,2,0,1]
[26,"PREPARE",2,3,2,0,1,4,4,3,4]
[27,"GO",3,1,3,1,2,3,2,3,4]
[28,"TELL",4,1,3,1,3,4,3,4,4]
[29,"SEND",3,3,2,0,3,4,4,3,4]
[30,"GIVE",3,1,4,0,2,4,4,4,4]
[31,"LEARN",2,1,3,0,2,4,3,4,4]
[32,"PREPARE",1,2,2,0,1,0,2,1,4]
[33,"LEARN",1,1,3,1,2,4,4,4,4]
[34,"GO",3,1,4,1,1,4,4,4,4]
[35,"LEARN",3,2,3,1,2,4,4,4,4]
[36,"GIVE",1,1,1,1,2,4,2,1,4]
[37,"MULTIPLY",3,2,4,1,4,4,3,4,2]
[38,"GIVE",1,2,2,2,2,4,1,0,4]
[39,"TELL",3,1,3,2,2,4,4,3,4]
[40,"MULTIPLY",3,3,1,1,3,4,1,0,1]
[41,"MULTIPLY",3,3,3,1,3,0,4,0,1]
[42,"TELL",3,1,3,0,1,4,2,3,4]

{"sheet":"Judea","index":6,"n_rows":43,"n_cols":11,"rows_kept":43,"cut":false,"hidden":true,"merged":[]}
[null,null,"Good Ol' Baptist","Good church 2","Scooter ","Rev. Pac DePews","Highland Park First Baptist Church","James Baker","keith parke","emmanuel baptist church- stanton, ky","LesterlkWatson"]
[1,"PREPARE",1,1,1,2,2,4,4,2,4]
[2,"LEARN",0,4,1,2,2,4,4,2,3]
[3,"PREPARE",1,2,3,0,2,4,4,1,4]
[4,"PREPARE",1,3,3,1,2,3,4,1,3]
[5,"LEARN",0,3,1,1,0,4,4,1,2]
[6,"LEARN",1,2,3,1,2,4,4,3,4]
[7,"PRAY",1,3,3,0,3,1,4,1,3]
[8,"PRAY",2,3,3,1,1,4,2,4,1]
[9,"GO",4,1,2,1,1,4,4,1,3]
[10,"PRAY",4,2,3,1,0,2,4,0,4]
[11,"PRAY",1,2,1,1,0,0,4,0,2]
[12,"PRAY",1,2,2,1,1,4,4,2,4]
[13,"GIVE",4,1,4,2,3,4,4,4,4]
[14,"GIVE",4,2,3,0,2,4,4,2,4]
[15,"GO",2,2,3,1,2,4,4,0,4]
[16,"LEARN",1,2,2,1,2,4,4,2,4]
[17,"GO",0,4,2,3,2,4,4,2,4]
[18,"TELL",1,1,2,2,2,4,3,0,3]
[19,"TELL",4,2,4,2,2,4,4,0,4]
[20,"SEND",2,1,2,1,3,4,4,2,2]
[21,"SEND",1,2,3,2,3,4,4,3,4]
[22,"SEND",3,1,3,1,2,4,4,1,2]
[23,"MULTIPLY",3,2,2,1,1,4,4,0,2]
[24,"MULTIPLY",1,0,0,2,0,0,1,0,1]
[25,"MULTIPLY",1,2,1,1,1,0,0,0,1]
[26,"PREPARE",2,2,2,1,1,4,4,3,4]
[27,"GO",2,2,3,1,2,3,2,1,4]
[28,"TELL",4,1,3,1,2,4,3,2,4]
[29,"SEND",2,4,2,1,2,4,4,1,4]
[30,"GIVE",3,2,4,0,2,4,4,1,4]
[31,"LEARN",2,3,2,0,2,4,3,1,4]
[32,"PREPARE",1,2,2,1,1,0,2,1,3]
[33,"LEARN",4,2,2,1,2,4,4,0,4]
[34,"GO",1,2,0,2,1,4,4,0,2]
[35,"LEARN",3,2,2,1,2,4,4,0,4]
[36,"GIVE",1,0,1,1,2,4,2,1,4]
[37,"MULTIPLY",1,1,2,1,4,4,3,4,1]
[38,"GIVE",1,1,2,2,1,4,4,0,4]
[39,"TELL",2,2,2,0,1,4,3,0,4]
[40,"MULTIPLY",3,3,1,2,3,4,1,0,1]
[41,"MULTIPLY",3,1,1,1,2,0,4,0,1]
[42,"TELL",2,2,2,2,1,4,2,1,4]

{"sheet":"Samaria","index":7,"n_rows":43,"n_cols":11,"rows_kept":43,"cut":false,"hidden":true,"merged":[]}
[null,null,"Good Ol' Baptist","Good church 2","Scooter ","Rev. Pac DePews","Highland Park First Baptist Church","James Baker","keith parke","emmanuel baptist church- stanton, ky","LesterlkWatson"]
[1,"PREPARE",1,2,1,1,1,1,4,1,4]
[2,"LEARN",0,4,0,3,2,3,4,0,2]
[3,"PREPARE",1,2,3,0,2,2,4,1,4]
[4,"PREPARE",1,3,1,0,2,3,4,1,3]
[5,"LEARN",0,3,1,2,1,0,4,0,2]
[6,"LEARN",1,2,3,3,2,0,4,3,4]
[7,"PRAY",1,3,3,0,3,1,4,1,3]
[8,"PRAY",1,3,0,2,3,0,3,3,1]
[9,"GO",1,1,0,3,2,1,4,0,3]
[10,"PRAY",0,2,1,2,0,0,2,0,3]
[11,"PRAY",1,2,1,3,0,0,4,0,2]
[12,"PRAY",0,3,1,2,2,0,4,1,4]
[13,"GIVE",4,1,4,3,3,4,4,4,4]
[14,"GIVE",4,2,3,1,3,4,4,4,4]
[15,"GO",0,3,0,0,2,4,2,0,2]
[16,"LEARN",1,3,1,1,2,4,4,0,4]
[17,"GO",0,2,0,3,2,4,4,0,4]
[18,"TELL",0,2,0,3,2,4,2,0,2]
[19,"TELL",4,3,4,2,2,4,3,0,4]
[20,"SEND",2,2,2,2,3,0,4,2,2]
[21,"SEND",1,3,3,3,3,4,4,3,4]
[22,"SEND",3,1,3,2,2,4,4,1,2]
[23,"MULTIPLY",3,2,0,0,1,4,4,0,2]
[24,"MULTIPLY",0,1,0,2,0,0,1,0,1]
[25,"MULTIPLY",0,2,1,2,1,0,0,0,1]
[26,"PREPARE",2,3,2,1,1,4,0,3,3]
[27,"GO",2,2,3,1,2,0,2,1,4]
[28,"TELL",4,2,3,1,2,0,3,1,4]
[29,"SEND",2,4,2,1,2,2,4,1,4]
[30,"GIVE",3,2,4,1,3,4,4,4,4]
[31,"LEARN",2,3,2,0,2,4,4,1,4]
[32,"PREPARE",1,2,2,1,1,0,1,1,2]
[33,"LEARN",1,2,1,1,3,0,4,0,4]
[34,"GO",0,2,0,2,1,0,4,0,2]
[35,"LEARN",1,3,2,2,2,4,4,0,4]
[36,"GIVE",1,1,1,2,3,4,2,3,4]
[37,"MULTIPLY",0,1,2,3,4,4,3,4,1]
[38,"GIVE",1,2,2,3,1,2,4,0,4]
[39,"TELL",1,2,1,0,1,4,3,0,4]
[40,"MULTIPLY",1,3,3,1,3,0,2,0,1]
[41,"MULTIPLY",1,1,1,1,3,0,2,0,1]
[42,"TELL",1,3,2,2,1,4,2,1,4]

{"sheet":"End","index":8,"n_rows":43,"n_cols":11,"rows_kept":43,"cut":false,"hidden":true,"merged":[]}
[null,null,"Good Ol' Baptist","Good church 2","Scooter ","Rev. Pac DePews","Highland Park First Baptist Church","James Baker","keith parke","emmanuel baptist church- stanton, ky","LesterlkWatson"]
[1,"PREPARE",2,2,2,1,2,0,4,2,3]
[2,"LEARN",2,4,1,4,3,0,4,3,2]
[3,"PREPARE",3,3,3,1,2,2,4,3,4]
[4,"PREPARE",3,4,3,1,3,3,4,3,3]
[5,"LEARN",4,2,1,3,1,0,3,4,2]
[6,"LEARN",3,2,3,3,2,0,4,3,4]
[7,"PRAY",3,2,3,2,3,1,4,1,2]
[8,"PRAY",4,3,4,2,4,0,4,3,1]
[9,"GO",3,1,3,3,2,0,3,4,3]
[10,"PRAY",1,3,1,2,0,0,2,2,3]
[11,"PRAY",1,2,3,3,0,0,4,0,2]
[12,"PRAY",3,3,4,3,4,0,4,4,4]
[13,"GIVE",4,2,4,4,3,4,4,4,4]
[14,"GIVE",4,3,3,2,3,4,4,4,4]
[15,"GO",3,3,2,2,2,0,2,0,2]
[16,"LEARN",2,3,2,2,2,4,4,4,4]
[17,"GO",3,1,3,3,2,4,4,4,4]
[18,"TELL",1,3,1,3,2,3,2,3,2]
[19,"TELL",2,3,1,2,1,2,2,2,4]
[20,"SEND",2,2,2,2,3,0,4,2,2]
[21,"SEND",3,3,3,4,3,4,4,3,4]
[22,"SEND",3,3,3,4,2,1,4,2,2]
[23,"MULTIPLY",3,3,1,2,1,4,4,0,2]
[24,"MULTIPLY",0,2,0,2,0,0,3,0,1]
[25,"MULTIPLY",0,2,1,3,1,0,0,0,1]
[26,"PREPARE",2,3,2,3,1,4,1,3,3]
[27,"GO",1,3,2,2,2,0,2,2,4]
[28,"TELL",2,3,2,2,1,0,2,4,4]
[29,"SEND",3,3,2,1,2,2,4,3,2]
[30,"GIVE",3,3,4,2,3,4,4,4,4]
[31,"LEARN",2,4,3,1,2,4,4,4,4]
[32,"PREPARE",1,2,2,2,1,0,1,1,2]
[33,"LEARN",4,2,4,1,3,0,4,4,4]
[34,"GO",4,3,0,2,1,0,0,4,2]
[35,"LEARN",3,4,3,2,2,4,4,4,1]
[36,"GIVE",1,1,2,3,3,4,2,3,4]
[37,"MULTIPLY",0,1,1,3,4,4,3,4,1]
[38,"GIVE",2,3,2,4,2,0,2,4,4]
[39,"TELL",3,2,1,2,1,4,2,2,2]
[40,"MULTIPLY",0,3,1,3,3,0,0,0,1]
[41,"MULTIPLY",0,2,1,4,1,0,2,0,1]
[42,"TELL",2,4,2,3,1,4,2,3,4]

{"sheet":"Sheet1","index":9,"n_rows":0,"n_cols":0,"rows_kept":0,"cut":false,"hidden":true,"merged":[]}

{"sheet":"Sheet2","index":10,"n_rows":0,"n_cols":0,"rows_kept":0,"cut":false,"hidden":true,"merged":[]}